Package: GSReg
Version: 1.38.0
Maintainer: Bahman Afsari <bahman@jhu.edu>, Elana J. Fertig
MaintainerEmail: ejfertig at jhmi.edu
git_url: https://git.bioconductor.org/packages/GSReg
git_branch: RELEASE_3_19
git_last_commit: 20e3c92
git_last_commit_date: 2024-04-30 10:37:28 -0400 (Tue, 30 Apr 2024)