Package: GSEAmining
Version: 1.14.0
Maintainer: Oriol Arqués
MaintainerEmail: oriol.arques at gmail.com
git_url: https://git.bioconductor.org/packages/GSEAmining
git_branch: RELEASE_3_19
git_last_commit: fb04805
git_last_commit_date: 2024-04-30 11:25:16 -0400 (Tue, 30 Apr 2024)