Package: GSCA
Version: 2.34.0
Maintainer: Zhicheng Ji
MaintainerEmail: zji4 at jhu.edu
git_url: https://git.bioconductor.org/packages/GSCA
git_branch: RELEASE_3_19
git_last_commit: 930dcf7
git_last_commit_date: 2024-04-30 10:35:05 -0400 (Tue, 30 Apr 2024)