Package: GRaNIE
Version: 1.8.0
Maintainer: Christian Arnold
MaintainerEmail: chrarnold at web.de
git_url: https://git.bioconductor.org/packages/GRaNIE
git_branch: RELEASE_3_19
git_last_commit: 47f7e04
git_last_commit_date: 2024-04-30 11:42:38 -0400 (Tue, 30 Apr 2024)