Package: GOpro Version: 1.30.0 Command: F:\biocbuild\bbs-3.19-bioc\R\bin\R.exe CMD INSTALL GOpro StartedAt: 2024-06-26 16:00:22 -0400 (Wed, 26 Jun 2024) EndedAt: 2024-06-26 16:01:17 -0400 (Wed, 26 Jun 2024) EllapsedTime: 54.9 seconds RetCode: 0 Status: OK