Package: GOpro
Version: 1.30.0
Command: /home/biocbuild/bbs-3.19-bioc/R/bin/R CMD INSTALL GOpro
StartedAt: 2024-10-16 16:02:34 -0400 (Wed, 16 Oct 2024)
EndedAt: 2024-10-16 16:03:08 -0400 (Wed, 16 Oct 2024)
EllapsedTime: 34.3 seconds
RetCode: 0
Status: OK