Package: GOpro
Version: 1.30.0
Command: /home/biocbuild/bbs-3.19-bioc/R/bin/R CMD check --install=check:GOpro.install-out.txt --library=/home/biocbuild/bbs-3.19-bioc/R/site-library --timings GOpro_1.30.0.tar.gz
StartedAt: 2024-10-17 01:02:48 -0400 (Thu, 17 Oct 2024)
EndedAt: 2024-10-17 01:06:59 -0400 (Thu, 17 Oct 2024)
EllapsedTime: 251.5 seconds
RetCode: 0
Status: OK
CheckDir: GOpro.Rcheck
Warnings: 0