Package: GOfuncR
Version: 1.24.0
Command: /home/biocbuild/bbs-3.19-bioc/R/bin/R CMD check --install=check:GOfuncR.install-out.txt --library=/home/biocbuild/bbs-3.19-bioc/R/site-library --timings GOfuncR_1.24.0.tar.gz
StartedAt: 2024-10-17 01:02:45 -0400 (Thu, 17 Oct 2024)
EndedAt: 2024-10-17 01:09:35 -0400 (Thu, 17 Oct 2024)
EllapsedTime: 410.9 seconds
RetCode: 0
Status: OK
CheckDir: GOfuncR.Rcheck
Warnings: 0