Package: GOexpress
Version: 1.38.0
Maintainer: Kevin Rue-Albrecht
MaintainerEmail: kevinrue67 at gmail.com
git_url: https://git.bioconductor.org/packages/GOexpress
git_branch: RELEASE_3_19
git_last_commit: 9a082a9
git_last_commit_date: 2024-04-30 10:38:52 -0400 (Tue, 30 Apr 2024)