Package: GOSemSim
Version: 2.30.2
Maintainer: Guangchuang Yu
MaintainerEmail: guangchuangyu at gmail.com
git_url: https://git.bioconductor.org/packages/GOSemSim
git_branch: RELEASE_3_19
git_last_commit: 7614f28
git_last_commit_date: 2024-08-21 00:19:46 -0400 (Wed, 21 Aug 2024)