Package: GNOSIS
Version: 1.2.0
Command: rm -rf GNOSIS.buildbin-libdir && mkdir GNOSIS.buildbin-libdir && F:\biocbuild\bbs-3.19-bioc\R\bin\R.exe CMD INSTALL --build --library=GNOSIS.buildbin-libdir GNOSIS_1.2.0.tar.gz
StartedAt: 2024-06-27 08:18:24 -0400 (Thu, 27 Jun 2024)
EndedAt: 2024-06-27 08:20:01 -0400 (Thu, 27 Jun 2024)
EllapsedTime: 97.7 seconds
RetCode: 0
Status: OK
PackageFile: GNOSIS_1.2.0.zip
PackageFileSize: 2.526 <A href="http://en.wikipedia.org/wiki/MiB" target="_blank">MiB</A>