Package: GNOSIS
Version: 1.2.0
Command: /Library/Frameworks/R.framework/Resources/bin/R CMD INSTALL GNOSIS
StartedAt: 2024-10-16 16:47:06 -0400 (Wed, 16 Oct 2024)
EndedAt: 2024-10-16 16:49:30 -0400 (Wed, 16 Oct 2024)
EllapsedTime: 143.7 seconds
RetCode: 0
Status: OK