Package: GNOSIS
Version: 1.2.0
Command: /Library/Frameworks/R.framework/Resources/bin/R CMD INSTALL GNOSIS
StartedAt: 2024-06-09 17:38:48 -0400 (Sun, 09 Jun 2024)
EndedAt: 2024-06-09 17:40:15 -0400 (Sun, 09 Jun 2024)
EllapsedTime: 86.9 seconds
RetCode: 0
Status: OK