Package: GNOSIS
Version: 1.2.0
Command: /Library/Frameworks/R.framework/Resources/bin/R CMD build --keep-empty-dirs --no-resave-data GNOSIS
StartedAt: 2024-06-09 22:22:47 -0400 (Sun, 09 Jun 2024)
EndedAt: 2024-06-09 22:24:53 -0400 (Sun, 09 Jun 2024)
EllapsedTime: 126.3 seconds
RetCode: 0
Status: OK
PackageFile: GNOSIS_1.2.0.tar.gz
PackageFileSize: 3.374 <A href="http://en.wikipedia.org/wiki/MiB" target="_blank">MiB</A>