Package: GNET2 Version: 1.20.0 Command: chmod a+r GNET2 -R && E:\biocbuild\bbs-3.19-bioc\R\bin\R.exe CMD build --keep-empty-dirs --no-resave-data GNET2 StartedAt: 2024-10-16 19:29:58 -0400 (Wed, 16 Oct 2024) EndedAt: 2024-10-16 19:31:01 -0400 (Wed, 16 Oct 2024) EllapsedTime: 62.5 seconds RetCode: 0 Status: OK PackageFile: GNET2_1.20.0.tar.gz PackageFileSize: 654 <A href="http://en.wikipedia.org/wiki/KiB" target="_blank">KiB</A>