##############################################################################
##############################################################################
###
### Running command:
###
###   chmod a+r GNET2 -R && F:\biocbuild\bbs-3.19-bioc\R\bin\R.exe CMD build --keep-empty-dirs --no-resave-data GNET2
###
##############################################################################
##############################################################################


* checking for file 'GNET2/DESCRIPTION' ... OK
* preparing 'GNET2':
* checking DESCRIPTION meta-information ... OK
* cleaning src
* installing the package to build vignettes
* creating vignettes ... OK
* cleaning src
* checking for LF line-endings in source and make files and shell scripts
* checking for empty or unneeded directories
Omitted 'LazyData' from DESCRIPTION
* building 'GNET2_1.20.0.tar.gz'