Package: GNET2
Version: 1.20.0
Command: /home/biocbuild/R/R-beta-2024-04-15_r86425/bin/R CMD check --install=check:GNET2.install-out.txt --library=/home/biocbuild/R/R-beta-2024-04-15_r86425/site-library --no-vignettes --timings GNET2_1.20.0.tar.gz
StartedAt: 2024-05-09 07:59:32 -0000 (Thu, 09 May 2024)
EndedAt: 2024-05-09 08:03:01 -0000 (Thu, 09 May 2024)
EllapsedTime: 208.3 seconds
RetCode: 0
Status: OK
CheckDir: GNET2.Rcheck
Warnings: 0