Package: GGPA
Version: 1.16.0
Command: rm -rf GGPA.buildbin-libdir && mkdir GGPA.buildbin-libdir && F:\biocbuild\bbs-3.19-bioc\R\bin\R.exe CMD INSTALL --build --library=GGPA.buildbin-libdir GGPA_1.16.0.tar.gz
StartedAt: 2024-06-27 08:17:35 -0400 (Thu, 27 Jun 2024)
EndedAt: 2024-06-27 08:18:36 -0400 (Thu, 27 Jun 2024)
EllapsedTime: 61.7 seconds
RetCode: 0
Status: OK
PackageFile: GGPA_1.16.0.zip
PackageFileSize: 3.058 <A href="http://en.wikipedia.org/wiki/MiB" target="_blank">MiB</A>