Package: GGPA
Version: 1.16.0
Command: /Library/Frameworks/R.framework/Resources/bin/R CMD INSTALL GGPA
StartedAt: 2024-10-16 15:20:50 -0400 (Wed, 16 Oct 2024)
EndedAt: 2024-10-16 15:21:58 -0400 (Wed, 16 Oct 2024)
EllapsedTime: 68.3 seconds
RetCode: 0
Status: OK