Package: GGPA
Version: 1.16.0
Command: /Library/Frameworks/R.framework/Resources/bin/R CMD build --keep-empty-dirs --no-resave-data GGPA
StartedAt: 2024-10-16 19:36:11 -0400 (Wed, 16 Oct 2024)
EndedAt: 2024-10-16 19:38:36 -0400 (Wed, 16 Oct 2024)
EllapsedTime: 145.7 seconds
RetCode: 0
Status: OK
PackageFile: GGPA_1.16.0.tar.gz
PackageFileSize: 4.712 <A href="http://en.wikipedia.org/wiki/MiB" target="_blank">MiB</A>