Package: GGPA
Version: 1.16.0
Command: /Library/Frameworks/R.framework/Resources/bin/R CMD INSTALL GGPA
StartedAt: 2024-10-16 16:08:44 -0400 (Wed, 16 Oct 2024)
EndedAt: 2024-10-16 16:09:15 -0400 (Wed, 16 Oct 2024)
EllapsedTime: 30.5 seconds
RetCode: 0
Status: OK