Package: GGPA
Version: 1.16.0
Command: rm -rf GGPA.buildbin-libdir && mkdir GGPA.buildbin-libdir && /Users/biocbuild/BBS/utils/build-universal.sh GGPA_1.16.0.tar.gz /Library/Frameworks/R.framework/Resources/bin/R GGPA.buildbin-libdir
StartedAt: 2024-10-18 18:44:09 -0400 (Fri, 18 Oct 2024)
EndedAt: 2024-10-18 18:44:50 -0400 (Fri, 18 Oct 2024)
EllapsedTime: 40.7 seconds
RetCode: 0
Status: OK
PackageFile: GGPA_1.16.0.tgz
PackageFileSize: 2.859 <A href="http://en.wikipedia.org/wiki/MiB" target="_blank">MiB</A>