Package: GEOexplorer
Version: 1.10.0
Command: /Library/Frameworks/R.framework/Resources/bin/R CMD INSTALL GEOexplorer
StartedAt: 2024-10-16 18:54:38 -0400 (Wed, 16 Oct 2024)
EndedAt: 2024-10-16 18:55:20 -0400 (Wed, 16 Oct 2024)
EllapsedTime: 41.5 seconds
RetCode: 0
Status: OK