Package: GEOexplorer
Version: 1.10.0
Command: /Library/Frameworks/R.framework/Resources/bin/R CMD build --keep-empty-dirs --no-resave-data GEOexplorer
StartedAt: 2024-10-17 01:13:52 -0400 (Thu, 17 Oct 2024)
EndedAt: 2024-10-17 01:14:50 -0400 (Thu, 17 Oct 2024)
EllapsedTime: 58.0 seconds
RetCode: 0
Status: OK
PackageFile: GEOexplorer_1.10.0.tar.gz
PackageFileSize: 11.26 <A href="http://en.wikipedia.org/wiki/MiB" target="_blank">MiB</A>