##############################################################################
##############################################################################
###
### Running command:
###
###   rm -rf GEOexplorer.buildbin-libdir && mkdir GEOexplorer.buildbin-libdir && /Users/biocbuild/BBS/utils/build-universal.sh GEOexplorer_1.10.0.tar.gz /Library/Frameworks/R.framework/Resources/bin/R GEOexplorer.buildbin-libdir
###
##############################################################################
##############################################################################


>>>>>>> 
>>>>>>> INSTALLATION WITH 'R CMD INSTALL --preclean --no-multiarch --library=GEOexplorer.buildbin-libdir GEOexplorer_1.10.0.tar.gz'
>>>>>>> 

* installing *source* package ‘GEOexplorer’ ...
** using staged installation
** R
** inst
** byte-compile and prepare package for lazy loading
Warning: replacing previous import ‘shiny::dataTableOutput’ by ‘DT::dataTableOutput’ when loading ‘GEOexplorer’
Warning: replacing previous import ‘shiny::renderDataTable’ by ‘DT::renderDataTable’ when loading ‘GEOexplorer’
** help
*** installing help indices
** building package indices
** installing vignettes
** testing if installed package can be loaded from temporary location
Warning: replacing previous import ‘shiny::dataTableOutput’ by ‘DT::dataTableOutput’ when loading ‘GEOexplorer’
Warning: replacing previous import ‘shiny::renderDataTable’ by ‘DT::renderDataTable’ when loading ‘GEOexplorer’
** testing if installed package can be loaded from final location
Warning: replacing previous import ‘shiny::dataTableOutput’ by ‘DT::dataTableOutput’ when loading ‘GEOexplorer’
Warning: replacing previous import ‘shiny::renderDataTable’ by ‘DT::renderDataTable’ when loading ‘GEOexplorer’
** testing if installed package keeps a record of temporary installation path
* DONE (GEOexplorer)