Package: GENESIS
Version: 2.34.0
Maintainer: Stephanie M. Gogarten
MaintainerEmail: sdmorris at uw.edu
git_url: https://git.bioconductor.org/packages/GENESIS
git_branch: RELEASE_3_19
git_last_commit: dcbee2c
git_last_commit_date: 2024-04-30 10:42:24 -0400 (Tue, 30 Apr 2024)