Package: GBScleanR Version: 1.8.25 Command: E:\biocbuild\bbs-3.19-bioc\R\bin\R.exe CMD INSTALL GBScleanR StartedAt: 2024-10-16 16:13:39 -0400 (Wed, 16 Oct 2024) EndedAt: 2024-10-16 16:15:27 -0400 (Wed, 16 Oct 2024) EllapsedTime: 108.1 seconds RetCode: 0 Status: OK