Package: GBScleanR Version: 1.8.25 Command: chmod a+r GBScleanR -R && E:\biocbuild\bbs-3.19-bioc\R\bin\R.exe CMD build --keep-empty-dirs --no-resave-data GBScleanR StartedAt: 2024-10-16 19:18:12 -0400 (Wed, 16 Oct 2024) EndedAt: 2024-10-16 19:20:34 -0400 (Wed, 16 Oct 2024) EllapsedTime: 142.5 seconds RetCode: 0 Status: OK PackageFile: GBScleanR_1.8.25.tar.gz PackageFileSize: 882.2 <A href="http://en.wikipedia.org/wiki/KiB" target="_blank">KiB</A>