Package: GBScleanR Version: 1.8.25 Command: /Library/Frameworks/R.framework/Resources/bin/R CMD check --install=check:GBScleanR.install-out.txt --library=/Library/Frameworks/R.framework/Resources/library --no-vignettes --timings GBScleanR_1.8.25.tar.gz StartedAt: 2024-10-17 22:14:22 -0400 (Thu, 17 Oct 2024) EndedAt: 2024-10-17 22:17:56 -0400 (Thu, 17 Oct 2024) EllapsedTime: 213.3 seconds RetCode: 0 Status: OK CheckDir: GBScleanR.Rcheck Warnings: 0