##############################################################################
##############################################################################
###
### Running command:
###
###   /Library/Frameworks/R.framework/Resources/bin/R CMD build --keep-empty-dirs --no-resave-data GBScleanR
###
##############################################################################
##############################################################################


* checking for file ‘GBScleanR/DESCRIPTION’ ... OK
* preparing ‘GBScleanR’:
* checking DESCRIPTION meta-information ... OK
* cleaning src
* installing the package to build vignettes
* creating vignettes ... OK
* cleaning src
* checking for LF line-endings in source and make files and shell scripts
* checking for empty or unneeded directories
* building ‘GBScleanR_1.8.25.tar.gz’