Package: GA4GHshiny
Version: 1.26.0
Command: /Library/Frameworks/R.framework/Resources/bin/R CMD check --install=check:GA4GHshiny.install-out.txt --library=/Library/Frameworks/R.framework/Resources/library --no-vignettes --timings GA4GHshiny_1.26.0.tar.gz
StartedAt: 2024-10-17 05:32:10 -0400 (Thu, 17 Oct 2024)
EndedAt: 2024-10-17 05:42:53 -0400 (Thu, 17 Oct 2024)
EllapsedTime: 642.5 seconds
RetCode: 0
Status: OK
CheckDir: GA4GHshiny.Rcheck
Warnings: 0