Package: GA4GHshiny
Version: 1.26.0
Command: /home/biocbuild/R/R-beta-2024-04-15_r86425/bin/R CMD INSTALL GA4GHshiny
StartedAt: 2024-05-08 21:02:37 -0000 (Wed, 08 May 2024)
EndedAt: 2024-05-08 21:03:34 -0000 (Wed, 08 May 2024)
EllapsedTime: 56.5 seconds
RetCode: 0
Status: OK