Package: GA4GHshiny
Version: 1.26.0
Command: /home/biocbuild/R/R-beta-2024-04-15_r86425/bin/R CMD check --install=check:GA4GHshiny.install-out.txt --library=/home/biocbuild/R/R-beta-2024-04-15_r86425/site-library --no-vignettes --timings GA4GHshiny_1.26.0.tar.gz
StartedAt: 2024-05-09 07:32:09 -0000 (Thu, 09 May 2024)
EndedAt: 2024-05-09 07:38:19 -0000 (Thu, 09 May 2024)
EllapsedTime: 369.7 seconds
RetCode: 0
Status: OK
CheckDir: GA4GHshiny.Rcheck
Warnings: 0