Package: GA4GHshiny
Version: 1.26.0
Command: /Library/Frameworks/R.framework/Resources/bin/R CMD INSTALL GA4GHshiny
StartedAt: 2024-10-16 18:40:53 -0400 (Wed, 16 Oct 2024)
EndedAt: 2024-10-16 18:41:42 -0400 (Wed, 16 Oct 2024)
EllapsedTime: 49.5 seconds
RetCode: 0
Status: OK