Package: FScanR Version: 1.14.0 Maintainer: Xiao Chen MaintainerEmail: seanchen607 at gmail.com git_url: https://git.bioconductor.org/packages/FScanR git_branch: RELEASE_3_19 git_last_commit: 1c1764d git_last_commit_date: 2024-04-30 11:26:32 -0400 (Tue, 30 Apr 2024)