Package: ExploreModelMatrix
Version: 1.16.0
Command: /Library/Frameworks/R.framework/Resources/bin/R CMD INSTALL ExploreModelMatrix
StartedAt: 2024-10-16 16:00:08 -0400 (Wed, 16 Oct 2024)
EndedAt: 2024-10-16 16:00:28 -0400 (Wed, 16 Oct 2024)
EllapsedTime: 20.8 seconds
RetCode: 0
Status: OK