Package: ExploreModelMatrix
Version: 1.16.0
Command: /Library/Frameworks/R.framework/Resources/bin/R CMD INSTALL ExploreModelMatrix
StartedAt: 2024-06-09 16:21:36 -0400 (Sun, 09 Jun 2024)
EndedAt: 2024-06-09 16:21:49 -0400 (Sun, 09 Jun 2024)
EllapsedTime: 12.9 seconds
RetCode: 0
Status: OK