Package: ExploreModelMatrix
Version: 1.16.0
Command: /Library/Frameworks/R.framework/Resources/bin/R CMD build --keep-empty-dirs --no-resave-data ExploreModelMatrix
StartedAt: 2024-10-17 00:18:54 -0400 (Thu, 17 Oct 2024)
EndedAt: 2024-10-17 00:19:14 -0400 (Thu, 17 Oct 2024)
EllapsedTime: 20.6 seconds
RetCode: 0
Status: OK
PackageFile: ExploreModelMatrix_1.16.0.tar.gz
PackageFileSize: 2.508 <A href="http://en.wikipedia.org/wiki/MiB" target="_blank">MiB</A>