Package: ExiMiR
Version: 2.46.0
Command: /home/biocbuild/bbs-3.19-bioc/R/bin/R CMD check --install=check:ExiMiR.install-out.txt --library=/home/biocbuild/bbs-3.19-bioc/R/site-library --timings ExiMiR_2.46.0.tar.gz
StartedAt: 2024-10-17 00:19:37 -0400 (Thu, 17 Oct 2024)
EndedAt: 2024-10-17 00:21:25 -0400 (Thu, 17 Oct 2024)
EllapsedTime: 108.2 seconds
RetCode: 0
Status: OK
CheckDir: ExiMiR.Rcheck
Warnings: 0