Package: ExiMiR
Version: 2.46.0
Command: /Library/Frameworks/R.framework/Resources/bin/R CMD build --keep-empty-dirs --no-resave-data ExiMiR
StartedAt: 2024-10-17 00:17:39 -0400 (Thu, 17 Oct 2024)
EndedAt: 2024-10-17 00:18:54 -0400 (Thu, 17 Oct 2024)
EllapsedTime: 75.0 seconds
RetCode: 0
Status: OK
PackageFile: ExiMiR_2.46.0.tar.gz
PackageFileSize: 1.507 <A href="http://en.wikipedia.org/wiki/MiB" target="_blank">MiB</A>