Package: ExiMiR
Version: 2.46.0
Command: rm -rf ExiMiR.buildbin-libdir && mkdir ExiMiR.buildbin-libdir && /Users/biocbuild/BBS/utils/build-universal.sh ExiMiR_2.46.0.tar.gz /Library/Frameworks/R.framework/Resources/bin/R ExiMiR.buildbin-libdir
StartedAt: 2024-10-18 18:26:40 -0400 (Fri, 18 Oct 2024)
EndedAt: 2024-10-18 18:26:48 -0400 (Fri, 18 Oct 2024)
EllapsedTime: 8.1 seconds
RetCode: 0
Status: OK
PackageFile: ExiMiR_2.46.0.tgz
PackageFileSize: 1.352 <A href="http://en.wikipedia.org/wiki/MiB" target="_blank">MiB</A>