Package: EventPointer
Version: 3.12.0
Maintainer: Juan A. Ferrer-Bonsoms
MaintainerEmail: jafhernandez at tecnun.es
git_url: https://git.bioconductor.org/packages/EventPointer
git_branch: RELEASE_3_19
git_last_commit: 93a9ebf
git_last_commit_date: 2024-04-30 10:56:34 -0400 (Tue, 30 Apr 2024)