Package: EnrichmentBrowser
Version: 2.34.1
Command: /Library/Frameworks/R.framework/Resources/bin/R CMD check --install=check:EnrichmentBrowser.install-out.txt --library=/Library/Frameworks/R.framework/Resources/library --no-vignettes --timings EnrichmentBrowser_2.34.1.tar.gz
StartedAt: 2024-10-17 04:48:59 -0400 (Thu, 17 Oct 2024)
EndedAt: 2024-10-17 05:03:40 -0400 (Thu, 17 Oct 2024)
EllapsedTime: 880.2 seconds
RetCode: 0
Status: OK
CheckDir: EnrichmentBrowser.Rcheck
Warnings: 0