Package: EnrichmentBrowser
Version: 2.34.1
Command: /Library/Frameworks/R.framework/Resources/bin/R CMD build --keep-empty-dirs --no-resave-data EnrichmentBrowser
StartedAt: 2024-10-16 18:57:53 -0400 (Wed, 16 Oct 2024)
EndedAt: 2024-10-16 19:02:56 -0400 (Wed, 16 Oct 2024)
EllapsedTime: 302.5 seconds
RetCode: 0
Status: OK
PackageFile: EnrichmentBrowser_2.34.1.tar.gz
PackageFileSize: 1.661 <A href="http://en.wikipedia.org/wiki/MiB" target="_blank">MiB</A>