Package: ENmix
Version: 1.40.2
Maintainer: Zongli Xu
MaintainerEmail: xuz at niehs.nih.gov
git_url: https://git.bioconductor.org/packages/ENmix
git_branch: RELEASE_3_19
git_last_commit: 56109d2
git_last_commit_date: 2024-06-12 21:59:45 -0400 (Wed, 12 Jun 2024)