Package: EGAD
Version: 1.32.0
Command: /Library/Frameworks/R.framework/Resources/bin/R CMD INSTALL EGAD
StartedAt: 2024-06-09 15:30:21 -0400 (Sun, 09 Jun 2024)
EndedAt: 2024-06-09 15:30:49 -0400 (Sun, 09 Jun 2024)
EllapsedTime: 28.5 seconds
RetCode: 0
Status: OK