Package: EGAD
Version: 1.32.0
Command: rm -rf EGAD.buildbin-libdir && mkdir EGAD.buildbin-libdir && /Users/biocbuild/BBS/utils/build-universal.sh EGAD_1.32.0.tar.gz /Library/Frameworks/R.framework/Resources/bin/R EGAD.buildbin-libdir
StartedAt: 2024-06-10 00:16:35 -0400 (Mon, 10 Jun 2024)
EndedAt: 2024-06-10 00:17:08 -0400 (Mon, 10 Jun 2024)
EllapsedTime: 33.7 seconds
RetCode: 0
Status: OK
PackageFile: EGAD_1.32.0.tgz
PackageFileSize: 36.78 <A href="http://en.wikipedia.org/wiki/MiB" target="_blank">MiB</A>