Package: EGAD
Version: 1.32.0
Command: /home/biocbuild/R/R-beta-2024-04-15_r86425/bin/R CMD check --install=check:EGAD.install-out.txt --library=/home/biocbuild/R/R-beta-2024-04-15_r86425/site-library --no-vignettes --timings EGAD_1.32.0.tar.gz
StartedAt: 2024-05-09 07:04:15 -0000 (Thu, 09 May 2024)
EndedAt: 2024-05-09 07:05:34 -0000 (Thu, 09 May 2024)
EllapsedTime: 79.1 seconds
RetCode: 0
Status: WARNINGS
CheckDir: EGAD.Rcheck
Warnings: 1