Package: EGAD
Version: 1.32.0
Command: /home/biocbuild/R/R-beta-2024-04-15_r86425/bin/R CMD build --keep-empty-dirs --no-resave-data EGAD
StartedAt: 2024-05-09 00:03:41 -0000 (Thu, 09 May 2024)
EndedAt: 2024-05-09 00:03:44 -0000 (Thu, 09 May 2024)
EllapsedTime: 3.0 seconds
RetCode: 0
Status: OK
PackageFile: EGAD_1.32.0.tar.gz
PackageFileSize: 14.57 <A href="http://en.wikipedia.org/wiki/MiB" target="_blank">MiB</A>