Package: DropletUtils
Version: 1.24.0
Maintainer: Jonathan Griffiths
MaintainerEmail: jonathan.griffiths.94 at gmail.com
git_url: https://git.bioconductor.org/packages/DropletUtils
git_branch: RELEASE_3_19
git_last_commit: b6ab9f0
git_last_commit_date: 2024-04-30 11:03:17 -0400 (Tue, 30 Apr 2024)